BEGIN:VCALENDAR
PRODID:Zimbra-Calendar-Provider
VERSION:2.0
METHOD:REQUEST
BEGIN:VTIMEZONE
TZID:Europe/Berlin
BEGIN:STANDARD
DTSTART:16010101T030000
TZOFFSETTO:+0100
TZOFFSETFROM:+0200
RRULE:FREQ=YEARLY;WKST=MO;INTERVAL=1;BYMONTH=10;BYDAY=-1SU
TZNAME:CET
END:STANDARD
BEGIN:DAYLIGHT
DTSTART:16010101T020000
TZOFFSETTO:+0200
TZOFFSETFROM:+0100
RRULE:FREQ=YEARLY;WKST=MO;INTERVAL=1;BYMONTH=3;BYDAY=-1SU
TZNAME:CEST
END:DAYLIGHT
END:VTIMEZONE
BEGIN:VEVENT
UID:8d6c019b-6f98-455d-9c90-cc678712b588
SUMMARY:ML-Lab - Coordination Meeting
ATTENDEE;CN=mllab;ROLE=REQ-PARTICIPANT;PARTSTAT=NEEDS-ACTION;RSVP=TRUE:mailt
 o:mllab@ins.uni-bonn.de
ORGANIZER;CN=Jochen Garcke:mailto:jochen.garcke@scai.fraunhofer.de
DTSTART;TZID="Europe/Berlin":20210318T090000
DTEND;TZID="Europe/Berlin":20210318T100000
STATUS:CONFIRMED
CLASS:PUBLIC
X-MICROSOFT-CDO-INTENDEDSTATUS:BUSY
TRANSP:OPAQUE
LAST-MODIFIED:20210311T120639Z
DTSTAMP:20210311T120639Z
SEQUENCE:0
DESCRIPTION:Neue Sitzungsanfrage:\n\nBetreff: ML-Lab - Coordination Meeting 
 \nOrganisator: "Jochen Garcke" <jochen.garcke@scai.fraunhofer.de> \n\nUhrzei
 t: Donnerstag\, 18. März 2021\, 09:00:00 - 10:00:00 GMT +01:00 Amsterdam\, B
 erlin\, Bern\, Rom\, Stockholm\, Wien\n \nEingeladene Teilnehmer: mllab@ins.
 uni-bonn.de \n\n\n*~*~*~*~*~*~*~*~*~*\n\n
BEGIN:VALARM
ACTION:DISPLAY
TRIGGER;RELATED=START:-PT10M
DESCRIPTION:Reminder
END:VALARM
END:VEVENT
END:VCALENDAR